BEGIN:VCALENDAR
VERSION:2.0
PRODID:-//Kultur- und Museumsverein Eibiswald - ECPv6.15.20//NONSGML v1.0//EN
CALSCALE:GREGORIAN
METHOD:PUBLISH
X-ORIGINAL-URL:https://kultur.eibiswald.net
X-WR-CALDESC:Veranstaltungen für Kultur- und Museumsverein Eibiswald
REFRESH-INTERVAL;VALUE=DURATION:PT1H
X-Robots-Tag:noindex
X-PUBLISHED-TTL:PT1H
BEGIN:VTIMEZONE
TZID:Europe/Vienna
BEGIN:DAYLIGHT
TZOFFSETFROM:+0100
TZOFFSETTO:+0200
TZNAME:CEST
DTSTART:20250330T010000
END:DAYLIGHT
BEGIN:STANDARD
TZOFFSETFROM:+0200
TZOFFSETTO:+0100
TZNAME:CET
DTSTART:20251026T010000
END:STANDARD
BEGIN:DAYLIGHT
TZOFFSETFROM:+0100
TZOFFSETTO:+0200
TZNAME:CEST
DTSTART:20260329T010000
END:DAYLIGHT
BEGIN:STANDARD
TZOFFSETFROM:+0200
TZOFFSETTO:+0100
TZNAME:CET
DTSTART:20261025T010000
END:STANDARD
BEGIN:DAYLIGHT
TZOFFSETFROM:+0100
TZOFFSETTO:+0200
TZNAME:CEST
DTSTART:20270328T010000
END:DAYLIGHT
BEGIN:STANDARD
TZOFFSETFROM:+0200
TZOFFSETTO:+0100
TZNAME:CET
DTSTART:20271031T010000
END:STANDARD
END:VTIMEZONE
BEGIN:VEVENT
DTSTART;TZID=Europe/Vienna:20260521T180000
DTEND;TZID=Europe/Vienna:20260521T193000
DTSTAMP:20260419T194526
CREATED:20260412T183706Z
LAST-MODIFIED:20260412T205540Z
UID:10000193-1779386400-1779391800@kultur.eibiswald.net
SUMMARY:Richard Kaplenig – STELL:WERK
DESCRIPTION:Der Kärntner Maler Richard Kaplenig eröffnet in der Stadtgalerie Deutschlandsberg seine Ausstellung STELL:WERK mit sinnlichen\, kraftvollen Werken – auch über das Näherrücken zweier Bundesländer. Kaplenigs Motive entstammen der Welt der Dinge: von verkohlten Brotresten über Schellen bis hin zu Schraubstöcken und Glühlampen. Mit einer reduzierten Palette Grautöne und wenigen Farbakzenten platziert er diese Alltagsobjekte in leeren Räumen und erhebt sie so zu Kultobjekten. Landkartenausschnitte fungieren dabei als Bildträger und fügen der realistischen Darstellung eine weitere Wirklichkeitsebene hinzu. Anschrift: Laßnitzhaus Deutschlandsberg\, Holleneggerstraße 8. Ausstellungsdauer: 22.05.–21.06.2026 (Fr 9–12 & 15–18 Uhr; Sa 9–12 Uhr; So 15–18 Uhr). Eintritt: frei.
URL:https://kultur.eibiswald.net/event/richard-kaplenig-stellwerk-2/
LOCATION:Stadtgalerie Deutschlandsberg (Laßnitzhaus)\, Holleneggerstraße 8\, Deutschlandsberg\, Steiermark\, 8530\, Austria
CATEGORIES:Schillern
ATTACH;FMTTYPE=image/jpeg:https://kultur.eibiswald.net/wp-content/uploads/2026/04/21.05_Stadtgalerie-kaplenig-ring-richard.jpg
END:VEVENT
END:VCALENDAR