BEGIN:VCALENDAR
VERSION:2.0
PRODID:-//Kultur- und Museumsverein Eibiswald - ECPv6.15.20//NONSGML v1.0//EN
CALSCALE:GREGORIAN
METHOD:PUBLISH
X-ORIGINAL-URL:https://kultur.eibiswald.net
X-WR-CALDESC:Veranstaltungen für Kultur- und Museumsverein Eibiswald
REFRESH-INTERVAL;VALUE=DURATION:PT1H
X-Robots-Tag:noindex
X-PUBLISHED-TTL:PT1H
BEGIN:VTIMEZONE
TZID:Europe/Vienna
BEGIN:DAYLIGHT
TZOFFSETFROM:+0100
TZOFFSETTO:+0200
TZNAME:CEST
DTSTART:20250330T010000
END:DAYLIGHT
BEGIN:STANDARD
TZOFFSETFROM:+0200
TZOFFSETTO:+0100
TZNAME:CET
DTSTART:20251026T010000
END:STANDARD
BEGIN:DAYLIGHT
TZOFFSETFROM:+0100
TZOFFSETTO:+0200
TZNAME:CEST
DTSTART:20260329T010000
END:DAYLIGHT
BEGIN:STANDARD
TZOFFSETFROM:+0200
TZOFFSETTO:+0100
TZNAME:CET
DTSTART:20261025T010000
END:STANDARD
BEGIN:DAYLIGHT
TZOFFSETFROM:+0100
TZOFFSETTO:+0200
TZNAME:CEST
DTSTART:20270328T010000
END:DAYLIGHT
BEGIN:STANDARD
TZOFFSETFROM:+0200
TZOFFSETTO:+0100
TZNAME:CET
DTSTART:20271031T010000
END:STANDARD
END:VTIMEZONE
BEGIN:VEVENT
DTSTART;TZID=Europe/Vienna:20260516T180000
DTEND;TZID=Europe/Vienna:20260516T200000
DTSTAMP:20260419T193439
CREATED:20260412T183704Z
LAST-MODIFIED:20260412T202147Z
UID:10000190-1778954400-1778961600@kultur.eibiswald.net
SUMMARY:C+C Luser
DESCRIPTION:Die Brüder Clemens & Constantin Luser eröffnen in der Rondell Gallery (Bad Schwanberg) eine Ausstellung in heterogener\, widersprüchlicher Handschrift\, angesiedelt zwischen surrealer Symbolik und pointierten Botschaften. Zeichnung ist stets Ausgangspunkt ihrer künstlerischen Arbeit\, deren Entstehungsprozess technische und materialbezogene Experimente sowie den Einsatz analoger und digitaler Werkzeuge umfasst. Ausstellungsdauer: 16.5. bis 28.6.2026 (Sa/So 14–18 Uhr). Eintritt: frei.
URL:https://kultur.eibiswald.net/event/cc-luser-2/
LOCATION:Rondell Gallery\, Raiffeisengasse 1\, Bad Schwanberg\, Steiermark\, 8541\, Austria
CATEGORIES:Schillern
ATTACH;FMTTYPE=image/jpeg:https://kultur.eibiswald.net/wp-content/uploads/2026/04/16.05_cRondellGallery1.jpg
END:VEVENT
END:VCALENDAR