BEGIN:VCALENDAR
VERSION:2.0
PRODID:-//Kultur- und Museumsverein Eibiswald - ECPv6.15.20//NONSGML v1.0//EN
CALSCALE:GREGORIAN
METHOD:PUBLISH
X-WR-CALNAME:Kultur- und Museumsverein Eibiswald
X-ORIGINAL-URL:https://kultur.eibiswald.net
X-WR-CALDESC:Veranstaltungen für Kultur- und Museumsverein Eibiswald
REFRESH-INTERVAL;VALUE=DURATION:PT1H
X-Robots-Tag:noindex
X-PUBLISHED-TTL:PT1H
BEGIN:VTIMEZONE
TZID:Europe/Vienna
BEGIN:DAYLIGHT
TZOFFSETFROM:+0100
TZOFFSETTO:+0200
TZNAME:CEST
DTSTART:20250330T010000
END:DAYLIGHT
BEGIN:STANDARD
TZOFFSETFROM:+0200
TZOFFSETTO:+0100
TZNAME:CET
DTSTART:20251026T010000
END:STANDARD
BEGIN:DAYLIGHT
TZOFFSETFROM:+0100
TZOFFSETTO:+0200
TZNAME:CEST
DTSTART:20260329T010000
END:DAYLIGHT
BEGIN:STANDARD
TZOFFSETFROM:+0200
TZOFFSETTO:+0100
TZNAME:CET
DTSTART:20261025T010000
END:STANDARD
BEGIN:DAYLIGHT
TZOFFSETFROM:+0100
TZOFFSETTO:+0200
TZNAME:CEST
DTSTART:20270328T010000
END:DAYLIGHT
BEGIN:STANDARD
TZOFFSETFROM:+0200
TZOFFSETTO:+0100
TZNAME:CET
DTSTART:20271031T010000
END:STANDARD
END:VTIMEZONE
BEGIN:VEVENT
DTSTART;TZID=Europe/Vienna:20260517T180000
DTEND;TZID=Europe/Vienna:20260517T200000
DTSTAMP:20260419T193407
CREATED:20260412T183706Z
LAST-MODIFIED:20260412T202114Z
UID:10000191-1779040800-1779048000@kultur.eibiswald.net
SUMMARY:Songs & Stories – Pollanz & Schmidt
DESCRIPTION:Das kongeniale Duo Wolfgang Pollanz (Autor) und Gabriel Schmidt (Musiker) präsentiert mit „Songs & Stories“ eine literarisch-musikalische Reise durch die Popkultur. Noch nie wurden die Geschichten hinter legendären Rock- und Popsongs so unterhaltsam erzählt! Wolfgang Pollanz – als Autor und profunder Pop-Kenner – liest aus seinen Werken\, untermalt von der Live-Musik des Gitarristen Gabriel Schmidt. Ein Abend voller Anekdoten\, Musik und Nostalgie.
URL:https://kultur.eibiswald.net/event/songs-stories-pollanz-schmidt-2/
LOCATION:Dachbodentheater Stainz\, Bahnhofstraße 21\, Stainz\, Steiermark\, 8510\, Austria
CATEGORIES:Schillern
ATTACH;FMTTYPE=image/jpeg:https://kultur.eibiswald.net/wp-content/uploads/2026/04/17.05_StainZeit-_PollanzSchmidt.jpg
END:VEVENT
BEGIN:VEVENT
DTSTART;TZID=Europe/Vienna:20260527T190000
DTEND;TZID=Europe/Vienna:20260527T203000
DTSTAMP:20260419T193407
CREATED:20260412T184107Z
LAST-MODIFIED:20260412T203852Z
UID:10000203-1779908400-1779913800@kultur.eibiswald.net
SUMMARY:Herbert Dutzler – Der Plattenspieler unter der Dachschräge
DESCRIPTION:Der Weststeirer Herbert Dutzler liest im Dachbodentheater Stainz aus seinem neuen Coming-of-Age-Roman „Der Plattenspieler unter der Dachschräge“ und nimmt die Zuhörer mit auf eine nostalgische Reise in die wilden 1970er-Jahre. Zwischen dröhnender Rockmusik\, ersten Zigaretten und familiären Zerreißproben erzählt Dutzler mit viel Feingefühl und Humor vom Erwachsenwerden in einer Zeit des Umbruchs. **Eintritt:** freiwillige Spende.
URL:https://kultur.eibiswald.net/event/herbert-dutzler-der-plattenspieler-unter-der-dachschraege-2/
LOCATION:Dachbodentheater Stainz\, Bahnhofstraße 21\, Stainz\, Steiermark\, 8510\, Austria
CATEGORIES:Schillern
ATTACH;FMTTYPE=image/jpeg:https://kultur.eibiswald.net/wp-content/uploads/2026/04/27.05_StainZeit_Herbert-Dutzler.jpg
END:VEVENT
END:VCALENDAR