BEGIN:VCALENDAR
VERSION:2.0
PRODID:-//Kultur- und Museumsverein Eibiswald - ECPv6.15.20//NONSGML v1.0//EN
CALSCALE:GREGORIAN
METHOD:PUBLISH
X-ORIGINAL-URL:https://kultur.eibiswald.net
X-WR-CALDESC:Veranstaltungen für Kultur- und Museumsverein Eibiswald
REFRESH-INTERVAL;VALUE=DURATION:PT1H
X-Robots-Tag:noindex
X-PUBLISHED-TTL:PT1H
BEGIN:VTIMEZONE
TZID:Europe/Vienna
BEGIN:DAYLIGHT
TZOFFSETFROM:+0100
TZOFFSETTO:+0200
TZNAME:CEST
DTSTART:20250330T010000
END:DAYLIGHT
BEGIN:STANDARD
TZOFFSETFROM:+0200
TZOFFSETTO:+0100
TZNAME:CET
DTSTART:20251026T010000
END:STANDARD
BEGIN:DAYLIGHT
TZOFFSETFROM:+0100
TZOFFSETTO:+0200
TZNAME:CEST
DTSTART:20260329T010000
END:DAYLIGHT
BEGIN:STANDARD
TZOFFSETFROM:+0200
TZOFFSETTO:+0100
TZNAME:CET
DTSTART:20261025T010000
END:STANDARD
BEGIN:DAYLIGHT
TZOFFSETFROM:+0100
TZOFFSETTO:+0200
TZNAME:CEST
DTSTART:20270328T010000
END:DAYLIGHT
BEGIN:STANDARD
TZOFFSETFROM:+0200
TZOFFSETTO:+0100
TZNAME:CET
DTSTART:20271031T010000
END:STANDARD
END:VTIMEZONE
BEGIN:VEVENT
DTSTART;TZID=Europe/Vienna:20260528T183000
DTEND;TZID=Europe/Vienna:20260528T200000
DTSTAMP:20260419T193601
CREATED:20260412T184306Z
LAST-MODIFIED:20260412T204942Z
UID:10000206-1779993000-1779998400@kultur.eibiswald.net
SUMMARY:Gottes Plagen – eine abenteuerliche Reise ins steirische Mittelalter
DESCRIPTION:Der Weststeirer Robert Preis liest im Burgmuseum Archeo Norico aus seinem neuen Mittelalter-Kriminalroman „Gottes Plagen – eine abenteuerliche Reise ins steirische Mittelalter“. Pest\, Heuschrecken und die Angst vor den Türken versetzen Graz im Jahr 1485 in Angst und Schrecken. In seinem Roman lässt Preis diese düstere Zeit lebendig werden: Machtkämpfe unter Kaiser Friedrich III.\, Intrigen der Eggenberger\, blutige Schlachten – und mitten im Chaos eine unmögliche Liebe. **Eintritt:** 9 €.
URL:https://kultur.eibiswald.net/event/gottes-plagen-eine-abenteuerliche-reise-ins-steirische-mittelalter-2/
LOCATION:Burg Deutschlandsberg\, Burgplatz 2\, Deutschlandsberg\, Steiermark\, 8530\, Austria
CATEGORIES:Schillern
ATTACH;FMTTYPE=image/jpeg:https://kultur.eibiswald.net/wp-content/uploads/2026/04/28.05_Burgmuseum-R-obert-Preis-©_niki_schreinlechner_photography_pp.jpg
ORGANIZER;CN="Burgmuseum Archeo Norico Deutschlandsberg":MAILTO:info@archeonorico.at
END:VEVENT
END:VCALENDAR