BEGIN:VCALENDAR
VERSION:2.0
PRODID:-//Kultur- und Museumsverein Eibiswald - ECPv6.15.20//NONSGML v1.0//EN
CALSCALE:GREGORIAN
METHOD:PUBLISH
X-WR-CALNAME:Kultur- und Museumsverein Eibiswald
X-ORIGINAL-URL:https://kultur.eibiswald.net
X-WR-CALDESC:Veranstaltungen für Kultur- und Museumsverein Eibiswald
REFRESH-INTERVAL;VALUE=DURATION:PT1H
X-Robots-Tag:noindex
X-PUBLISHED-TTL:PT1H
BEGIN:VTIMEZONE
TZID:Europe/Vienna
BEGIN:DAYLIGHT
TZOFFSETFROM:+0100
TZOFFSETTO:+0200
TZNAME:CEST
DTSTART:20250330T010000
END:DAYLIGHT
BEGIN:STANDARD
TZOFFSETFROM:+0200
TZOFFSETTO:+0100
TZNAME:CET
DTSTART:20251026T010000
END:STANDARD
BEGIN:DAYLIGHT
TZOFFSETFROM:+0100
TZOFFSETTO:+0200
TZNAME:CEST
DTSTART:20260329T010000
END:DAYLIGHT
BEGIN:STANDARD
TZOFFSETFROM:+0200
TZOFFSETTO:+0100
TZNAME:CET
DTSTART:20261025T010000
END:STANDARD
BEGIN:DAYLIGHT
TZOFFSETFROM:+0100
TZOFFSETTO:+0200
TZNAME:CEST
DTSTART:20270328T010000
END:DAYLIGHT
BEGIN:STANDARD
TZOFFSETFROM:+0200
TZOFFSETTO:+0100
TZNAME:CET
DTSTART:20271031T010000
END:STANDARD
END:VTIMEZONE
BEGIN:VEVENT
DTSTART;TZID=Europe/Vienna:20260515T193000
DTEND;TZID=Europe/Vienna:20260515T213000
DTSTAMP:20260419T194835
CREATED:20260412T183704Z
LAST-MODIFIED:20260412T202156Z
UID:10000189-1778873400-1778880600@kultur.eibiswald.net
SUMMARY:Ein Fußballbuch – Austrofred liest
DESCRIPTION:In der Edition Kürbis erscheint 2026 die Anthologie „Schwalbenkönig und Blutgrätsche – Ein Fußball-Lesebuch“ mit Texten namhafter österreichischer Autor:innen. Bei dieser Buchpräsentation liest Kult-Kabarettist Austrofred ausgewählte Geschichten aus der Welt des Fußballs\, untermalt von den passenden Songs von DJ Haubentaucher – ein humorvoller Abend rund um die oft unterschätzte Fußballkultur.
URL:https://kultur.eibiswald.net/event/ein-fussballbuch-austrofred-liest-2/
LOCATION:Atelier im Schwimmbad\, Am Marktplatz 4\, Wies\, Steiermark\, 8551\, Austria
CATEGORIES:Schillern
ATTACH;FMTTYPE=image/jpeg:https://kultur.eibiswald.net/wp-content/uploads/2026/04/15.05_Ein-Fussballbuch-Austrofred-liest-c-Helene-Payerhuber2.jpg
END:VEVENT
END:VCALENDAR