BEGIN:VCALENDAR
VERSION:2.0
PRODID:-//Kultur- und Museumsverein Eibiswald - ECPv6.15.20//NONSGML v1.0//EN
CALSCALE:GREGORIAN
METHOD:PUBLISH
X-ORIGINAL-URL:https://kultur.eibiswald.net
X-WR-CALDESC:Veranstaltungen für Kultur- und Museumsverein Eibiswald
REFRESH-INTERVAL;VALUE=DURATION:PT1H
X-Robots-Tag:noindex
X-PUBLISHED-TTL:PT1H
BEGIN:VTIMEZONE
TZID:Europe/Vienna
BEGIN:DAYLIGHT
TZOFFSETFROM:+0100
TZOFFSETTO:+0200
TZNAME:CEST
DTSTART:20250330T010000
END:DAYLIGHT
BEGIN:STANDARD
TZOFFSETFROM:+0200
TZOFFSETTO:+0100
TZNAME:CET
DTSTART:20251026T010000
END:STANDARD
BEGIN:DAYLIGHT
TZOFFSETFROM:+0100
TZOFFSETTO:+0200
TZNAME:CEST
DTSTART:20260329T010000
END:DAYLIGHT
BEGIN:STANDARD
TZOFFSETFROM:+0200
TZOFFSETTO:+0100
TZNAME:CET
DTSTART:20261025T010000
END:STANDARD
BEGIN:DAYLIGHT
TZOFFSETFROM:+0100
TZOFFSETTO:+0200
TZNAME:CEST
DTSTART:20270328T010000
END:DAYLIGHT
BEGIN:STANDARD
TZOFFSETFROM:+0200
TZOFFSETTO:+0100
TZNAME:CET
DTSTART:20271031T010000
END:STANDARD
END:VTIMEZONE
BEGIN:VEVENT
DTSTART;TZID=Europe/Vienna:20260523T180000
DTEND;TZID=Europe/Vienna:20260523T193000
DTSTAMP:20260419T180847
CREATED:20260412T183906Z
LAST-MODIFIED:20260412T205507Z
UID:10000197-1779559200-1779564600@kultur.eibiswald.net
SUMMARY:Paul Gulda – WOHLTEMPERIERT auf fünf Clavieren
DESCRIPTION:Der Pianist Paul Gulda interpretiert Bachs „Das Wohltemperierte Klavier“ abwechselnd auf fünf verschiedenen Tasteninstrumenten – Cembalo\, Clavichord\, Konzertflügel\, Orgelpositiv und E-Piano. Durch den Wechsel der Instrumente von Stück zu Stück verschmelzen barocke und moderne Klänge und zeigen die Vielseitigkeit von Bachs Werk. **Eintritt:** VVK 30 € (Erwachsene) / AK 35 €; < 18 J. frei; Ö1-Club-Mitglieder 10% Ermäßigung an der Abendkassa.
URL:https://kultur.eibiswald.net/event/paul-gulda-wohltemperiert-auf-fuenf-clavieren-2/
LOCATION:Musik- und Kunstschule Deutschlandsberg\, Hollengger Straße 19\, Deutschlandsberg\, Steiermark\, 8530\, Austria
CATEGORIES:Schillern
ATTACH;FMTTYPE=image/jpeg:https://kultur.eibiswald.net/wp-content/uploads/2026/04/23.05_Kulturkreis-Paul-gulda_cr-Julia-Grandegger-002.jpg
END:VEVENT
END:VCALENDAR