BEGIN:VCALENDAR
VERSION:2.0
PRODID:-//Kultur- und Museumsverein Eibiswald - ECPv6.15.20//NONSGML v1.0//EN
CALSCALE:GREGORIAN
METHOD:PUBLISH
X-WR-CALNAME:Kultur- und Museumsverein Eibiswald
X-ORIGINAL-URL:https://kultur.eibiswald.net
X-WR-CALDESC:Veranstaltungen für Kultur- und Museumsverein Eibiswald
REFRESH-INTERVAL;VALUE=DURATION:PT1H
X-Robots-Tag:noindex
X-PUBLISHED-TTL:PT1H
BEGIN:VTIMEZONE
TZID:Europe/Vienna
BEGIN:DAYLIGHT
TZOFFSETFROM:+0100
TZOFFSETTO:+0200
TZNAME:CEST
DTSTART:20250330T010000
END:DAYLIGHT
BEGIN:STANDARD
TZOFFSETFROM:+0200
TZOFFSETTO:+0100
TZNAME:CET
DTSTART:20251026T010000
END:STANDARD
BEGIN:DAYLIGHT
TZOFFSETFROM:+0100
TZOFFSETTO:+0200
TZNAME:CEST
DTSTART:20260329T010000
END:DAYLIGHT
BEGIN:STANDARD
TZOFFSETFROM:+0200
TZOFFSETTO:+0100
TZNAME:CET
DTSTART:20261025T010000
END:STANDARD
BEGIN:DAYLIGHT
TZOFFSETFROM:+0100
TZOFFSETTO:+0200
TZNAME:CEST
DTSTART:20270328T010000
END:DAYLIGHT
BEGIN:STANDARD
TZOFFSETFROM:+0200
TZOFFSETTO:+0100
TZNAME:CET
DTSTART:20271031T010000
END:STANDARD
END:VTIMEZONE
BEGIN:VEVENT
DTSTART;TZID=Europe/Vienna:20260523T193000
DTEND;TZID=Europe/Vienna:20260523T203000
DTSTAMP:20260419T180502
CREATED:20260412T183907Z
LAST-MODIFIED:20260412T205449Z
UID:10000199-1779564600-1779568200@kultur.eibiswald.net
SUMMARY:Die Direktträger
DESCRIPTION:Die Brüder Harry & Wolfgang Lampl – bekannt aus Film und Fernsehen – kehren für ein heiteres musikalisches Heimspiel in ihre steirische Heimat zurück. In ihrer Bühnen-Show „Die Direktträger“ erzählen sie mit viel Humor\, liebevoller Poesie und eingängigen Melodien von ihren Abenteuern rund um den Globus und der ewigen Suche nach den eigenen Wurzeln im Hügelland. **Eintritt:** 24 €; ermäßigt 19 € (Ö1-Club); 10 € (Studierende/Lehrlinge); 5 € (< 18 J.); frei < 12 J.
URL:https://kultur.eibiswald.net/event/die-direkttraeger-2/
LOCATION:Greith-Haus\, Kopreinigg 90\, St. Ulrich im Greith\, Steiermark\, 8544\, Austria
CATEGORIES:Schillern
ATTACH;FMTTYPE=image/jpeg:https://kultur.eibiswald.net/wp-content/uploads/2026/04/23.05_Greithaus-Die-Direkttraeger-Foto-Bernhard-Lampl1.jpg
ORGANIZER;CN="Greith-Haus St. Ulrich im Greith":MAILTO:kultur@greith-haus.at
END:VEVENT
BEGIN:VEVENT
DTSTART;TZID=Europe/Vienna:20260524T140000
DTEND;TZID=Europe/Vienna:20260524T153000
DTSTAMP:20260419T180502
CREATED:20260412T184106Z
LAST-MODIFIED:20260412T203606Z
UID:10000201-1779631200-1779636600@kultur.eibiswald.net
SUMMARY:Der Kasperl kommt ins Greith-Haus
DESCRIPTION:Große Aufregung im Greith-Haus – der Kasperl ist unterwegs! Im Rahmen des alljährlichen Laubdorffestes in St. Ulrich im Greith heißt es am Pfingstsonntag wieder: Bühne frei für Spaß\, Lachen und jede Menge Wirbel. Was genau passieren wird\, weiß wahrscheinlich nicht einmal der Kasperl selbst – aber eines ist sicher: Wenn er auftaucht\, bleibt kein Auge trocken und kein Ruf unbeantwortet. Ein großer Spaß für alle kleinen (und großen) Gäste! **Eintritt:** frei.
URL:https://kultur.eibiswald.net/event/der-kasperl-kommt-ins-greith-haus-2/
LOCATION:Greith-Haus\, Kopreinigg 90\, St. Ulrich im Greith\, Steiermark\, 8544\, Austria
CATEGORIES:Schillern
ORGANIZER;CN="Greith-Haus St. Ulrich im Greith":MAILTO:kultur@greith-haus.at
END:VEVENT
BEGIN:VEVENT
DTSTART;TZID=Europe/Vienna:20260529T193000
DTEND;TZID=Europe/Vienna:20260529T203000
DTSTAMP:20260419T180502
CREATED:20260412T184307Z
LAST-MODIFIED:20260412T205102Z
UID:10000209-1780083000-1780086600@kultur.eibiswald.net
SUMMARY:Wolfgang Muthspiel Chamber Trio – ATLAS
DESCRIPTION:Der steirische Jazz-Gitarrist Wolfgang Muthspiel präsentiert mit seinem **Chamber Trio** – in der besonderen Besetzung Gitarre\, Trompete und Klavier – das neue Album „ATLAS“. In offener Improvisation und feinsinniger Interaktion entfaltet das Trio eine vielschichtige Klanglandschaft zwischen Jazz und Kammermusik. Muthspiels nuancierte Kompositionen schaffen dabei Räume für einen lebendigen musikalischen Dialog ohne Schlagzeug. **Eintritt:** 32 €; ermäßigt 29 € (Ö1-Club\, ACard\, Sparkasse); 20 € (Schüler/Studierende/Lehrlinge); 12 € (< 18 J.); frei < 12 J.
URL:https://kultur.eibiswald.net/event/wolfgang-muthspiel-chamber-trio-atlas-2/
LOCATION:Greith-Haus\, Kopreinigg 90\, St. Ulrich im Greith\, Steiermark\, 8544\, Austria
CATEGORIES:Schillern
ATTACH;FMTTYPE=image/jpeg:https://kultur.eibiswald.net/wp-content/uploads/2026/04/29.05_Greithaus-MuthspielChamberTrio_honorafrei1.jpg
ORGANIZER;CN="Greith-Haus St. Ulrich im Greith":MAILTO:kultur@greith-haus.at
END:VEVENT
END:VCALENDAR