BEGIN:VCALENDAR
VERSION:2.0
PRODID:-//Kultur- und Museumsverein Eibiswald - ECPv6.15.20//NONSGML v1.0//EN
CALSCALE:GREGORIAN
METHOD:PUBLISH
X-WR-CALNAME:Kultur- und Museumsverein Eibiswald
X-ORIGINAL-URL:https://kultur.eibiswald.net
X-WR-CALDESC:Veranstaltungen für Kultur- und Museumsverein Eibiswald
REFRESH-INTERVAL;VALUE=DURATION:PT1H
X-Robots-Tag:noindex
X-PUBLISHED-TTL:PT1H
BEGIN:VTIMEZONE
TZID:Europe/Vienna
BEGIN:DAYLIGHT
TZOFFSETFROM:+0100
TZOFFSETTO:+0200
TZNAME:CEST
DTSTART:20250330T010000
END:DAYLIGHT
BEGIN:STANDARD
TZOFFSETFROM:+0200
TZOFFSETTO:+0100
TZNAME:CET
DTSTART:20251026T010000
END:STANDARD
BEGIN:DAYLIGHT
TZOFFSETFROM:+0100
TZOFFSETTO:+0200
TZNAME:CEST
DTSTART:20260329T010000
END:DAYLIGHT
BEGIN:STANDARD
TZOFFSETFROM:+0200
TZOFFSETTO:+0100
TZNAME:CET
DTSTART:20261025T010000
END:STANDARD
BEGIN:DAYLIGHT
TZOFFSETFROM:+0100
TZOFFSETTO:+0200
TZNAME:CEST
DTSTART:20270328T010000
END:DAYLIGHT
BEGIN:STANDARD
TZOFFSETFROM:+0200
TZOFFSETTO:+0100
TZNAME:CET
DTSTART:20271031T010000
END:STANDARD
END:VTIMEZONE
BEGIN:VEVENT
DTSTART;TZID=Europe/Vienna:20260527T200000
DTEND;TZID=Europe/Vienna:20260527T213000
DTSTAMP:20260419T180918
CREATED:20260412T184107Z
LAST-MODIFIED:20260412T204614Z
UID:10000204-1779912000-1779917400@kultur.eibiswald.net
SUMMARY:Flo & Wisch – Hörensagen
DESCRIPTION:In ihrem neuen Kabarettprogramm „Hörensagen“ lassen Flo & Wisch zwei Halbwahrheiten zu einer ganzen Wahrheit verschmelzen und bringen die Gerüchteküche damit so richtig zum Brodeln. Wissenschaftlich ist das zwar nicht fundiert\, aber dafür umso komischer! „Hörensagen“ erweist sich als die perfekte Quelle für unfassbare Geschichten und skurrile Lieder\, in denen man sich nur allzu oft selbst wiedererkennt. (Regie: Bernhard Murg) **Eintritt:** VVK 25 € / AK 28 €.
URL:https://kultur.eibiswald.net/event/flo-wisch-hoerensagen-2/
LOCATION:bluegarage\, Hinterleitenstraße 40\, Frauental an der Laßnitz\, Steiermark\, 8523\, Austria
CATEGORIES:Schillern
ATTACH;FMTTYPE=image/jpeg:https://kultur.eibiswald.net/wp-content/uploads/2026/04/27.05_Bluegarage-PR-Foto1_Hoerensagen_FuW_©Moritz_Schell.jpg
END:VEVENT
END:VCALENDAR